BEGIN:VCALENDAR
VERSION:2.0
PRODID:-//ChamberMaster//Event Calendar 2.0//EN
METHOD:PUBLISH
X-PUBLISHED-TTL:P3D
REFRESH-INTERVAL:P3D
CALSCALE:GREGORIAN
BEGIN:VEVENT
DTSTART:20170318T180000Z
DTEND:20170318T210000Z
X-MICROSOFT-CDO-ALLDAYEVENT:FALSE
SUMMARY:TYCOGA's 1st Bridal Fair
DESCRIPTION:Are you planning your wedding or thinking about booking TYCOGA for that special day? If so\, come enjoy the afternoon with us! Look around at the beautifully decorated Event room. There will be prizes\, catering & cake samples.\n\n\n\nTYCOGA Vineyard & Winery offers a unique rustic facility for your wedding ceremony & wedding reception with a breathtaking view of our vineyard. Our facility can hold up to 250 people for a reception & up to 200 people for an outdoor wedding ceremony.\n\n\n\nParticipating Vendors include:\n\nCreating Your Dreams\, LLC\n\nMattheisen's Catering\n\nMcAvan's Cakes\n\nMississippi Pearl Photography\n\nAnytime Event Service\n\nVIP Transportation\n\nFlowers on the Side\n\nTime Well Wasted LLC Party Bus\n\nThrone Travel\n\nThe Printilng Store\n\n\n\nMake Your Wedding Memories with TYCOGA!
X-ALT-DESC;FMTTYPE=text/html:Are you planning your wedding or thinking about booking TYCOGA for that special day?&nbsp\;If so\, come enjoy the afternoon with us! Look around at the beautifully decorated Event room. There&nbsp\;will be prizes\, catering &amp\; cake samples.<br />\n<br />\nTYCOGA Vineyard &amp\; Winery offers a unique rustic facility for your wedding ceremony &amp\; wedding reception with a breathtaking view of our vineyard. Our facility can hold up to 250 people for a reception &amp\; up to 200 people for an outdoor wedding&nbsp\;ceremony.<br />\n<br />\n<strong>Participating Vendors include</strong>:<br />\nCreating Your Dreams\, LLC<br />\nMattheisen&#39\;s Catering<br />\nMcAvan&#39\;s&nbsp\;Cakes<br />\nMississippi Pearl Photography<br />\nAnytime Event Service<br />\nVIP Transportation<br />\nFlowers on the&nbsp\;Side<br />\nTime Well Wasted&nbsp\;LLC Party Bus<br />\nThrone&nbsp\;Travel<br />\nThe Printilng Store<br />\n<br />\nMake&nbsp\;Your Wedding Memories with TYCOGA!&nbsp\;
LOCATION:TYCOGA Vineyard & Winery 2585 195th Street Dewitt\, IA 52742
UID:e.1774.1909
SEQUENCE:3
DTSTAMP:20260419T235314Z
URL:https://business.dewittiowa.org/events/details/tycoga-s-1st-bridal-fair-1909
END:VEVENT

END:VCALENDAR
