BEGIN:VCALENDAR
VERSION:2.0
PRODID:-//ChamberMaster//Event Calendar 2.0//EN
METHOD:PUBLISH
X-PUBLISHED-TTL:P3D
REFRESH-INTERVAL:P3D
CALSCALE:GREGORIAN
BEGIN:VEVENT
DTSTART:20150620T003000Z
DTEND:20150620T030000Z
X-MICROSOFT-CDO-ALLDAYEVENT:FALSE
SUMMARY:TYCOGA Winery Ballroom Dance party
DESCRIPTION:
X-ALT-DESC;FMTTYPE=text/html:
LOCATION:2585 195th Street Dewitt\, IA 52742
UID:e.1774.496
SEQUENCE:3
DTSTAMP:20260421T094612Z
URL:https://business.dewittiowa.org/events/details/tycoga-winery-ballroom-dance-party-06-19-2015-496
END:VEVENT

END:VCALENDAR
