BEGIN:VCALENDAR
VERSION:2.0
PRODID:-//ChamberMaster//Event Calendar 2.0//EN
METHOD:PUBLISH
X-PUBLISHED-TTL:P3D
REFRESH-INTERVAL:P3D
CALSCALE:GREGORIAN
BEGIN:VEVENT
DTSTART:20160501T210000Z
DTEND:20160502T000000Z
X-MICROSOFT-CDO-ALLDAYEVENT:FALSE
SUMMARY:UCC Annual Beef Dinner
DESCRIPTION:Serving roast beef by Buzzy's\, mashed potatoes and gravy\, green beans\, cole slaw\, rolls\, homemade pies and desserts
X-ALT-DESC;FMTTYPE=text/html:Serving roast beef by Buzzy&#39\;s\, mashed potatoes and gravy\, green beans\, cole slaw\, rolls\, homemade pies and desserts
LOCATION:First Congregational United Church of Christ 520 E. 11th St. DeWitt\, IA
UID:e.1774.1269
SEQUENCE:3
DTSTAMP:20260420T134713Z
URL:https://business.dewittiowa.org/events/details/ucc-annual-beef-dinner-05-01-2016-1269
END:VEVENT

END:VCALENDAR
