BEGIN:VCALENDAR
VERSION:2.0
PRODID:-//ChamberMaster//Event Calendar 2.0//EN
METHOD:PUBLISH
X-PUBLISHED-TTL:P3D
REFRESH-INTERVAL:P3D
CALSCALE:GREGORIAN
BEGIN:VEVENT
DTSTART:20150126T200000Z
DTEND:20150127T000000Z
X-MICROSOFT-CDO-ALLDAYEVENT:FALSE
SUMMARY:United Church of Christ Blood Drive
DESCRIPTION:First Congregational United Church of Christ annual blood drive! Walk-ins welcome!
X-ALT-DESC;FMTTYPE=text/html:First Congregational United Church of Christ annual blood drive! Walk-ins welcome!
LOCATION:First Congregational United Church of Christ
UID:e.1774.263
SEQUENCE:3
DTSTAMP:20260421T155746Z
URL:https://business.dewittiowa.org/events/details/united-church-of-christ-blood-drive-01-26-2015-263
END:VEVENT

END:VCALENDAR
