BEGIN:VCALENDAR
VERSION:2.0
PRODID:-//ChamberMaster//Event Calendar 2.0//EN
METHOD:PUBLISH
X-PUBLISHED-TTL:P3D
REFRESH-INTERVAL:P3D
CALSCALE:GREGORIAN
BEGIN:VEVENT
DTSTART:20150608T140000Z
DTEND:20150608T170000Z
X-MICROSOFT-CDO-ALLDAYEVENT:FALSE
SUMMARY:Vacation Bible School
DESCRIPTION:The DeWitt Evangelical Free Church will be hosting its summer 2015 Vacation Bible School\, "Basic Elements" created by "The Amazing Chemistry Show". It's all about the wonderful message Jesus brought to Earth\, and we are going to be talk about that message through science. It is going to be hands-on fun! Kids four-years-old through 6th grade as of the 2014/2015 school year are welcome.
X-ALT-DESC;FMTTYPE=text/html:The DeWitt Evangelical Free Church will be hosting its summer 2015 Vacation Bible School\, &quot\;Basic Elements&quot\; created by &quot\;The Amazing Chemistry Show&quot\;. It&#39\;s all about the wonderful message Jesus brought to Earth\, and we are going to be talk about that message through science. It is going to be hands-on fun! Kids four-years-old through 6th grade as of the 2014/2015 school year are welcome.
LOCATION:DeWitt Evangelical Free Church - - 1921 Elmwood Road\, DeWitt
UID:e.1774.471
SEQUENCE:3
DTSTAMP:20260421T093214Z
URL:https://business.dewittiowa.org/events/details/vacation-bible-school-06-08-2015-471
END:VEVENT

END:VCALENDAR
