BEGIN:VCALENDAR
VERSION:2.0
PRODID:-//ChamberMaster//Event Calendar 2.0//EN
METHOD:PUBLISH
X-PUBLISHED-TTL:P3D
REFRESH-INTERVAL:P3D
CALSCALE:GREGORIAN
BEGIN:VEVENT
DTSTART:20140614T150000Z
DTEND:20140614T170000Z
X-MICROSOFT-CDO-ALLDAYEVENT:FALSE
SUMMARY:Vacation Bible School Preview - DEFC
DESCRIPTION:DeWitt Evangelical Free Church\n\nVacation Bible School Preview\n\nFree face painting\, balloon animals & more!
X-ALT-DESC;FMTTYPE=text/html:DeWitt Evangelical Free Church<br />\nVacation Bible School Preview<br />\nFree face painting\, balloon animals &amp\; more!
LOCATION:Lincoln Park DeWitt\, IA
UID:e.1774.48
SEQUENCE:3
DTSTAMP:20260422T025535Z
URL:https://business.dewittiowa.org/events/details/vacation-bible-school-preview-defc-06-14-2014-48
END:VEVENT

END:VCALENDAR
