BEGIN:VCALENDAR
VERSION:2.0
PRODID:-//ChamberMaster//Event Calendar 2.0//EN
METHOD:PUBLISH
X-PUBLISHED-TTL:P3D
REFRESH-INTERVAL:P3D
CALSCALE:GREGORIAN
BEGIN:VEVENT
DTSTART:20160213T000000Z
DTEND:20160213T020000Z
X-MICROSOFT-CDO-ALLDAYEVENT:FALSE
SUMMARY:Valentine's Day Dinner - Open to the Public!
DESCRIPTION:Valentine's Dinner
X-ALT-DESC;FMTTYPE=text/html:Valentine&#39\;s Dinner
LOCATION:Springbrook Country Club
UID:e.1774.1217
SEQUENCE:3
DTSTAMP:20260420T201709Z
URL:https://business.dewittiowa.org/events/details/valentine-s-day-dinner-open-to-the-public-02-12-2016-1217
END:VEVENT

END:VCALENDAR
