BEGIN:VCALENDAR
VERSION:2.0
PRODID:-//ChamberMaster//Event Calendar 2.0//EN
METHOD:PUBLISH
X-PUBLISHED-TTL:P3D
REFRESH-INTERVAL:P3D
CALSCALE:GREGORIAN
BEGIN:VEVENT
DTSTART:20140926T220000Z
DTEND:20140927T200000Z
X-MICROSOFT-CDO-ALLDAYEVENT:FALSE
SUMMARY:Vendor/Craft Fair
DESCRIPTION:Vendors\, crafters\, home businesses\, and more all nestled under 1 roof! Rent a space to feature your goods and/or services at our indoor vendor fair.\n\n\n\nLunch will be available to purchase on Saturday.
X-ALT-DESC;FMTTYPE=text/html:Vendors\, crafters\, home businesses\, and more all nestled under 1 roof! Rent a space to feature your goods and/or services at our indoor vendor fair.<br />\n<br />\nLunch will be available to purchase on Saturday.
LOCATION:714 6th Avenue\, DeWitt (Old True Value Bldg.)
UID:e.1774.152
SEQUENCE:3
DTSTAMP:20260421T234108Z
URL:https://business.dewittiowa.org/events/details/vendor-craft-fair-09-26-2014-152
END:VEVENT

END:VCALENDAR
