BEGIN:VCALENDAR
VERSION:2.0
PRODID:-//ChamberMaster//Event Calendar 2.0//EN
METHOD:PUBLISH
X-PUBLISHED-TTL:P3D
REFRESH-INTERVAL:P3D
CALSCALE:GREGORIAN
BEGIN:VEVENT
DTSTART:20141122T000000Z
DTEND:20141122T030000Z
X-MICROSOFT-CDO-ALLDAYEVENT:FALSE
SUMMARY:Vino Van Gogh Painting Party
DESCRIPTION:It's a Vino Van Gogh paint night and part of the proceeds go to St. Joe's School! Doors open at 6:00 with painting to begin at 6:30. Light appetizers will be served and one complimentary drink is included. Bring your friends\, have a great time and take your painting home with you!
X-ALT-DESC;FMTTYPE=text/html:It&#39\;s a Vino Van Gogh paint night and part of the proceeds go to St. Joe&#39\;s School! Doors open at 6:00 with painting to begin at 6:30. Light appetizers will be served and one complimentary drink is included. Bring your friends\, have a great time and take your painting home with you!
LOCATION:Springbrook Country Club 2771 224th St. DeWitt
UID:e.1774.232
SEQUENCE:3
DTSTAMP:20260421T190612Z
URL:https://business.dewittiowa.org/events/details/vino-van-gogh-painting-party-11-21-2014-232
END:VEVENT

END:VCALENDAR
