BEGIN:VCALENDAR
VERSION:2.0
PRODID:-//ChamberMaster//Event Calendar 2.0//EN
METHOD:PUBLISH
X-PUBLISHED-TTL:P3D
REFRESH-INTERVAL:P3D
CALSCALE:GREGORIAN
BEGIN:VEVENT
DTSTART:20151103T170000Z
DTEND:20151104T010000Z
X-MICROSOFT-CDO-ALLDAYEVENT:FALSE
SUMMARY:VOTE ONCE-EAT TWICE
DESCRIPTION:Dewitt Noon Lions\n\nSLOPPY JOE SUPPER  \n\nProceeds to "Shop with a Cop"
X-ALT-DESC;FMTTYPE=text/html:Dewitt<span style="line-height: 16.64px\;">&nbsp\;Noon Lions</span><br />\nSLOPPY JOE SUPPER &nbsp\;<br />\nProceeds to &quot\;Shop with a Cop&quot\;
LOCATION:Dewitt Community Center
UID:e.1774.1093
SEQUENCE:3
DTSTAMP:20260420T233052Z
URL:https://business.dewittiowa.org/events/details/vote-once-eat-twice-11-03-2015-1093
END:VEVENT

END:VCALENDAR
