BEGIN:VCALENDAR
VERSION:2.0
PRODID:-//ChamberMaster//Event Calendar 2.0//EN
METHOD:PUBLISH
X-PUBLISHED-TTL:P3D
REFRESH-INTERVAL:P3D
CALSCALE:GREGORIAN
BEGIN:VEVENT
DTSTART:20140920T150000Z
DTEND:20140920T170000Z
X-MICROSOFT-CDO-ALLDAYEVENT:FALSE
SUMMARY:Walk for Hope
DESCRIPTION:MJL Foundation's goal is Depression awareness and suicide prevention. Join the Walk for Hope to help erase the stigma of depression and mental illness. All funds stay local in our communities.
X-ALT-DESC;FMTTYPE=text/html:MJL Foundation&#39\;s goal is Depression awareness and suicide prevention. Join the Walk for Hope to help erase the stigma of depression and mental illness. All funds stay local in our communities.
LOCATION:Clinton County 4-H auditorium 328 E. 8th DeWitt\, IA
UID:e.1774.114
SEQUENCE:3
DTSTAMP:20260421T222228Z
URL:https://business.dewittiowa.org/events/details/walk-for-hope-09-20-2014-114
END:VEVENT

END:VCALENDAR
