BEGIN:VCALENDAR
VERSION:2.0
PRODID:-//ChamberMaster//Event Calendar 2.0//EN
METHOD:PUBLISH
X-PUBLISHED-TTL:P3D
REFRESH-INTERVAL:P3D
CALSCALE:GREGORIAN
BEGIN:VEVENT
DTSTART;VALUE=DATE:20151015
DTEND;VALUE=DATE:20151016
TRANSP:TRANSPARENT
X-MICROSOFT-CDO-ALLDAYEVENT:TRUE
SUMMARY:Wear Pink For The Cure Community Challenge
DESCRIPTION:The 4th Annual Wear Pink For The Cure (WPFTC) Community Challenge is here! As in years past\, the purpose of this event is to increase awareness of Breast Cancer and the importance of early detection. The DeWitt community responds to this challenge in a HUGE way\, creating a month of pink that is both fun and impactful. Whether your business goes "all out" or you choose to show your support in a simple way\, your participation is appreciated and significant! We encourage you to have the WPFTC judges stop by during judging 10/12-10/14 and see what you've done. They'll take a few photos to be posted to the DeWitt Community Hospital Foundation's Facebook page\, www.facebook.com/dewittchf. Each of the following three categories will have 1st\, 2nd and 3rd place winners: CREATIVITY\, success in BUILDING AWARENESS and PRESENTATION to the judges. Click here for more information and the registration form.
X-ALT-DESC;FMTTYPE=text/html:The 4th Annual Wear Pink For The Cure (WPFTC) Community Challenge is here! As in years past\, the purpose of this event is to increase awareness of Breast Cancer and the importance of early detection. The DeWitt community responds to this challenge in a HUGE way\, creating a month of pink that is both fun and impactful. Whether your business goes &quot\;all out&quot\; or you choose to show your support in a simple way\, your participation is appreciated and significant! We encourage you to have the WPFTC judges stop by during judging 10/12-10/14 and see what you&#39\;ve done. They&#39\;ll take a few photos to be posted to the DeWitt Community Hospital Foundation&#39\;s Facebook page\, <a href="http://www.facebook.com/dewittchf">www.facebook.com/dewittchf</a>. Each of the following three categories will have 1st\, 2nd and 3rd place winners: CREATIVITY\, success in BUILDING AWARENESS and PRESENTATION to the judges. <a href="http://cloud.chambermaster.com/userfiles/UserFiles/chambers/1774/File/CCLetterONLY.pdf">Click here</a> for more information and the registration form.
LOCATION:DeWitt and surrounding community
UID:e.1774.1066
SEQUENCE:3
DTSTAMP:20260421T012929Z
URL:https://business.dewittiowa.org/events/details/wear-pink-for-the-cure-community-challenge-10-15-2015-1066
END:VEVENT

END:VCALENDAR
