BEGIN:VCALENDAR
VERSION:2.0
PRODID:-//ChamberMaster//Event Calendar 2.0//EN
METHOD:PUBLISH
X-PUBLISHED-TTL:P3D
REFRESH-INTERVAL:P3D
CALSCALE:GREGORIAN
BEGIN:VEVENT
DTSTART:20141017T220000Z
DTEND:20141018T010000Z
X-MICROSOFT-CDO-ALLDAYEVENT:FALSE
SUMMARY:Wear Pink for the Cure Pumpkin Decorating Contest
DESCRIPTION:DeWitt Central High School FBLA is partnering with DeWitt Community Hospital Foundation to create the first ever Wear Pink for the Cure Pumpkin Decorating Contest! We invite you\, your friends\, family\, or any business to decorate a pumpkin that exemplifies support for Breast Cancer Awareness and the importance of early detection.\n\n\n\nAll decorated pumpkins will be on display at the Pink Out football game Friday\, October 17th.\n\n\n\nJUDGING: Pumpkins will be judged by age groups: Elementary/Middle School\, High School/Adults\, and Businesses/Groups. All attendees of the October\n\n17th football game will receive three tickets to vote for their favorite pumpkin in each age group.\n\n\n\nThe winners will be announced by the end of the third quarter!\n\n\n\nSIGN UP by October 15th if you plan to participate\, by contacting Erin Lane at erin.lane@central-csd.org or Austin O'Neil at austin.o'neil@central-csd.org.\n\n\n\nDROP OFF your decorated pumpkin(s):\n\n	October 16th from 8 am - 5 pm or October 17th from 8 am - 3 pm at the DeWitt Community Hospital Foundation\, 1108 11th St.\n	October 17th from 5 pm - 6 pm at the FBLA pumpkin stand\, located next to the Concessions (during the Sophomore game) \n	If an alternate time needs to be set up\, call Erin Lane at (563)-940-9526.
X-ALT-DESC;FMTTYPE=text/html:DeWitt Central High School FBLA is partnering with DeWitt Community Hospital Foundation to create the first ever Wear Pink for the Cure Pumpkin Decorating Contest! We invite you\, your friends\, family\, or any business to decorate a pumpkin that exemplifies support for Breast Cancer Awareness and the importance of early detection.<br />\n<br />\nAll decorated pumpkins will be on display at the Pink Out football game Friday\, October 17th.<br />\n<br />\nJUDGING: Pumpkins will be judged by age groups: Elementary/Middle School\, High School/Adults\, and Businesses/Groups. All attendees of the October<br />\n17th football game will receive three tickets to vote for their favorite pumpkin in each age group.<br />\n<br />\nThe winners will be announced by the end of the third quarter!<br />\n<br />\nSIGN UP by October 15th if you plan to participate\, by contacting Erin Lane at <a href="mailto:erin.lane@central-csd.org">erin.lane@central-csd.org</a> or Austin O&#39\;Neil at <a href="mailto:austin.o'neil@central-csd.org">austin.o&#39\;neil@central-csd.org</a>.<br />\n<br />\nDROP OFF your decorated pumpkin(s):\n<ul>\n	<li>October&nbsp\;16th from 8 am - 5 pm or October 17th from 8 am - 3 pm at the DeWitt Community Hospital Foundation\, 1108 11th St.</li>\n	<li>October 17th from 5 pm - 6 pm at the FBLA pumpkin stand\, located next to the Concessions (during the Sophomore game)&nbsp\;</li>\n	<li>If an alternate time needs to be set up\, call Erin Lane at (563)-940-9526.</li>\n</ul>\n
LOCATION:Central High School Football Field (Birney Field) 331 E 8th St\, DeWitt\, IA 52742
UID:e.1774.202
SEQUENCE:3
DTSTAMP:20260421T204135Z
URL:https://business.dewittiowa.org/events/details/wear-pink-for-the-cure-pumpkin-decorating-contest-10-17-2014-202
END:VEVENT

END:VCALENDAR
