BEGIN:VCALENDAR
VERSION:2.0
PRODID:-//ChamberMaster//Event Calendar 2.0//EN
METHOD:PUBLISH
X-PUBLISHED-TTL:P3D
REFRESH-INTERVAL:P3D
CALSCALE:GREGORIAN
BEGIN:VEVENT
DTSTART:20150329T120000Z
DTEND:20150329T180000Z
X-MICROSOFT-CDO-ALLDAYEVENT:FALSE
SUMMARY:Welton Fire Department Omelet Breakfast
DESCRIPTION:The Welton Volunteer Fire Department's "FAMOUS ALL YOU CAN EAT OMELET BREAKFAST" will be held Sunday\, March 29th at the Welton Fire station in Welton\, IA. Serving will take place from 7:00 AM until 1:00 PM. Cost - $7.00 for adults\, $4.00 for kids under 12\, under 5 free. For any additional questions please call "Buzzy Wiese" at 563-320-4915.
X-ALT-DESC;FMTTYPE=text/html:The Welton Volunteer Fire Department&#39\;s &quot\;FAMOUS ALL YOU CAN EAT OMELET BREAKFAST&quot\; will be held Sunday\, March 29th at the Welton Fire station in Welton\, IA. Serving will take place from 7:00 AM until 1:00 PM. Cost -&nbsp\;$7.00 for adults\, $4.00 for kids under 12\, under 5 free. For any additional questions please call &quot\;Buzzy Wiese&quot\;&nbsp\;at 563-320-4915.
LOCATION:Welton\, IA
UID:e.1774.341
SEQUENCE:3
DTSTAMP:20260421T142428Z
URL:https://business.dewittiowa.org/events/details/welton-fire-department-omelet-breakfast-03-29-2015-341
END:VEVENT

END:VCALENDAR
