BEGIN:VCALENDAR
VERSION:2.0
PRODID:-//ChamberMaster//Event Calendar 2.0//EN
METHOD:PUBLISH
X-PUBLISHED-TTL:P3D
REFRESH-INTERVAL:P3D
CALSCALE:GREGORIAN
BEGIN:VEVENT
DTSTART:20170804T160000Z
DTEND:20170804T190000Z
X-MICROSOFT-CDO-ALLDAYEVENT:FALSE
SUMMARY:Westwing Hosting Barnes Brat Stand
DESCRIPTION:Barnes Foodland is hosting a Brat Stand to raise money for the Westwing activity department.\n\nServing will start at 11:00am and end at 2:00pm.\n\nStop by for a delicious cause!
X-ALT-DESC;FMTTYPE=text/html:<p>Barnes Foodland is hosting a Brat Stand to raise money for the Westwing activity department.<br />\nServing will start at 11:00am and end at 2:00pm.<br />\nStop by for a delicious cause!</p>\n
LOCATION:Barnes Brat Stand in Barnes Parking Lot
UID:e.1774.3188
SEQUENCE:3
DTSTAMP:20260419T134441Z
URL:https://business.dewittiowa.org/events/details/westwing-hosting-barnes-brat-stand-3188
END:VEVENT

END:VCALENDAR
