BEGIN:VCALENDAR
VERSION:2.0
PRODID:-//ChamberMaster//Event Calendar 2.0//EN
METHOD:PUBLISH
X-PUBLISHED-TTL:P3D
REFRESH-INTERVAL:P3D
CALSCALE:GREGORIAN
BEGIN:VEVENT
DTSTART:20160507T140000Z
DTEND:20160507T210000Z
X-MICROSOFT-CDO-ALLDAYEVENT:FALSE
SUMMARY:Westwing Join Hands Day
DESCRIPTION:We are looking for volunteers to help us clean up our outdoor areas of Westwing and Genesis Medical Center.  Some of the plans include raking the courtyard\, picking up sticks\, cleaning flower beds\, planting flowers\, scrubbing the patio furniture\, and cleaning the veranda area. Garden tools will be available\, but extra garden tools are welcomed. We ask volunteers to bring rakes\, if possible. We also welcome anyone with a truck to help us haul yard waste to the DeWitt compost center.  If you have questions about Join Hands Day or are interested in volunteering\, please contact Melodie Heiar at (563) 659-4215.
X-ALT-DESC;FMTTYPE=text/html:<strong><span style="font-family:arial\,sans-serif">We are looking for volunteers to help us clean up our outdoor areas of Westwing and Genesis Medical Center.&nbsp\; Some of the plans include raking the courtyard\, picking up sticks\, cleaning flower beds\, planting flowers\, scrubbing the patio furniture\, and cleaning the veranda area. Garden tools will be available\, but extra garden tools are welcomed. We ask volunteers to bring rakes\, if possible. We also welcome anyone with a truck to help us haul yard waste to the DeWitt compost center.&nbsp\; If you have questions about Join Hands Day or are interested in volunteering\, please contact Melodie Heiar at (563) 659-4215.&nbsp\; &nbsp\;</span></strong>
LOCATION:Westwing Place 1118 11th St. DeWitt\, IA
UID:e.1774.1312
SEQUENCE:3
DTSTAMP:20260420T135500Z
URL:https://business.dewittiowa.org/events/details/westwing-join-hands-day-05-07-2016-1312
END:VEVENT

END:VCALENDAR
