BEGIN:VCALENDAR
VERSION:2.0
PRODID:-//ChamberMaster//Event Calendar 2.0//EN
METHOD:PUBLISH
X-PUBLISHED-TTL:P3D
REFRESH-INTERVAL:P3D
CALSCALE:GREGORIAN
BEGIN:VEVENT
DTSTART:20150222T200000Z
DTEND:20150222T223000Z
X-MICROSOFT-CDO-ALLDAYEVENT:FALSE
SUMMARY:Whisk Away Adult Cooking Class
DESCRIPTION:Oscar Party Cooking Class\n\nWear your fanciest apron down the red carpet to create glamorous appetizers\, desserts and drinks.
X-ALT-DESC;FMTTYPE=text/html:<strong>Oscar Party Cooking Class</strong><br />\nWear your fanciest apron down the red carpet to create glamorous appetizers\, desserts and drinks.
LOCATION:Wisk Away Cafe and Bakery 919 6th Avenue\, DeWitt\, Iowa 52742
UID:e.1774.304
SEQUENCE:3
DTSTAMP:20260421T142606Z
URL:https://business.dewittiowa.org/events/details/whisk-away-adult-cooking-class-02-22-2015-304
END:VEVENT

END:VCALENDAR
