BEGIN:VCALENDAR
VERSION:2.0
PRODID:-//ChamberMaster//Event Calendar 2.0//EN
METHOD:PUBLISH
X-PUBLISHED-TTL:P3D
REFRESH-INTERVAL:P3D
CALSCALE:GREGORIAN
BEGIN:VEVENT
DTSTART;VALUE=DATE:20151130
DTEND;VALUE=DATE:20151201
TRANSP:TRANSPARENT
X-MICROSOFT-CDO-ALLDAYEVENT:TRUE
SUMMARY:Whisk Away Wreath Contest
DESCRIPTION:Deck the walls of Whisk Away with your original wreath creation! Wreaths will be displayed Nov. 30 - Jan. 4. Prizes will be awarded! Winners will be announced after the Lighted Pickup Parade on Saturday\, Dec. 5. See details below!\n\n\n\nWhisk Away Wreath Contest Official Rules\n\nWreaths must:\n\n\n	\n	be decorated by the person submitting the entry and must be original\, one-of-a-kind\n	\n	\n	be any size between 24-30 inches in diameter\n	\n	\n	must reflect a baking or cooking theme\n	\n	\n	consist of no live\, organic materials\n	\n\n\nEntries must be completed and delivered to Whisk Away Cafe & Bakery\, 919 Sixth Avenue\, Monday\, Nov. 30\, 2015\, by 6 p.m. Only one entry per person will be accepted and an entry form will be available on-site and must be completed and submitted with the entry. Corporate wreaths are welcome as long as the wreath is an original creation. All entries will be exhibited at Whisk Away Cafe and Bakery through January 4\, 201.\n\nEntries will be judged on workmanship\, use of materials\, creativity and originality. Entries will be judged for first\, second and third place. The winner will be announced at Hometown Christmas\, Saturday\, 5\, after the Lighted Pickup Parade.\n\n\n\nWhisk Away will not be responsible for the return of the wreaths. Entrants should plan to take their wreath with them January 4. Wreaths not retrieved by close of business January 4 will be recycled/donated to the referral center.\n\n1st Prize - Private Cooking class for 6 with Chef and Owner Laura Prichard and $50 gift certificate\n\n2nd Prize - $50 Gift Certificate\n\n3rd Prize - $25 Gift Certificate
X-ALT-DESC;FMTTYPE=text/html:<p>Deck the walls of Whisk Away with your original wreath&nbsp\;creation! Wreaths will be displayed Nov. 30 - Jan. 4. Prizes will be awarded! Winners will be announced after the Lighted Pickup Parade on Saturday\, Dec. 5. See details below!<br />\n<br />\n<strong>Whisk Away Wreath Contest Official Rules</strong></p>\n\n<p>Wreaths must:</p>\n\n<ul>\n	<li>\n	<p>be decorated by the person submitting the entry and must be original\, one-of-a-kind</p>\n	</li>\n	<li>\n	<p>be any size <strong>between 24-30 </strong>inches in diameter</p>\n	</li>\n	<li>\n	<p><strong>must reflect a baking or cooking theme</strong></p>\n	</li>\n	<li>\n	<p>consist of no live\, organic materials</p>\n	</li>\n</ul>\n\n<p>Entries must be completed and delivered to Whisk Away Cafe &amp\; Bakery\, 919 Sixth Avenue\, <strong>Monday\, Nov. 30\, 2015\, by 6 p.m. </strong>Only one entry per person will be accepted and an entry form will be available on-site and must be completed and submitted with the entry. Corporate wreaths are welcome as long as the wreath is an original creation. All entries will be exhibited at Whisk Away Cafe and Bakery through January 4\, 201.</p>\n\n<p>Entries will be judged on workmanship\, use of materials\, creativity and originality. Entries will be judged for first\, second and third place. The winner will be announced at Hometown Christmas\, Saturday\, 5\, after the Lighted Pickup Parade.<br />\n<br />\nWhisk Away will not be responsible for the return of the wreaths. Entrants should plan to take their wreath with them January 4. Wreaths not retrieved by close of business January 4 will be recycled/donated to the referral center.</p>\n\n<p>1st Prize - Private Cooking class for 6 with Chef and Owner Laura Prichard&nbsp\;and $50 gift certificate</p>\n\n<p>2nd Prize - $50 Gift Certificate</p>\n\n<p>3rd Prize - $25 Gift Certificate</p>\n
LOCATION:Whisk Away Caf and Bakery
UID:e.1774.1143
SEQUENCE:3
DTSTAMP:20260420T233032Z
URL:https://business.dewittiowa.org/events/details/whisk-away-wreath-contest-11-30-2015-1143
END:VEVENT

END:VCALENDAR
