BEGIN:VCALENDAR
VERSION:2.0
PRODID:-//ChamberMaster//Event Calendar 2.0//EN
METHOD:PUBLISH
X-PUBLISHED-TTL:P3D
REFRESH-INTERVAL:P3D
CALSCALE:GREGORIAN
BEGIN:VEVENT
DTSTART:20140711T180000Z
DTEND:20140711T200000Z
X-MICROSOFT-CDO-ALLDAYEVENT:FALSE
SUMMARY:Wii Gaming Day
DESCRIPTION:Play your favorite Wii games with a friend!
X-ALT-DESC;FMTTYPE=text/html:Play your favorite Wii games with a friend!
LOCATION:Library meeting room 505 10th St. DeWitt\, IA
UID:e.1774.103
SEQUENCE:3
DTSTAMP:20260422T010758Z
URL:https://business.dewittiowa.org/events/details/wii-gaming-day-07-11-2014-103
END:VEVENT

END:VCALENDAR
