BEGIN:VCALENDAR
VERSION:2.0
PRODID:-//ChamberMaster//Event Calendar 2.0//EN
METHOD:PUBLISH
X-PUBLISHED-TTL:P3D
REFRESH-INTERVAL:P3D
CALSCALE:GREGORIAN
BEGIN:VEVENT
DTSTART:20141010T200000Z
DTEND:20141010T220000Z
X-MICROSOFT-CDO-ALLDAYEVENT:FALSE
SUMMARY:Wine Tasting
DESCRIPTION:Come taste some wine from Fireside Winery made in rural Marengo\, Iowa
X-ALT-DESC;FMTTYPE=text/html:Come taste some wine from Fireside Winery made in rural Marengo\, Iowa
LOCATION:Graphic Elements 910 6th Avenue DeWitt\, IA
UID:e.1774.206
SEQUENCE:3
DTSTAMP:20260421T203455Z
URL:https://business.dewittiowa.org/events/details/wine-tasting-10-10-2014-206
END:VEVENT

END:VCALENDAR
