BEGIN:VCALENDAR
VERSION:2.0
PRODID:-//ChamberMaster//Event Calendar 2.0//EN
METHOD:PUBLISH
X-PUBLISHED-TTL:P3D
REFRESH-INTERVAL:P3D
CALSCALE:GREGORIAN
BEGIN:VEVENT
DTSTART:20150228T180000Z
DTEND:20150228T180000Z
X-MICROSOFT-CDO-ALLDAYEVENT:FALSE
SUMMARY:Winter Reading Program
DESCRIPTION:The two month long 2015 winter reading program is now underway at the library and everyone is invited to participate. The theme "Hot Reads for Cold Nights" provides opportunity for patrons of all ages to win prizes just for doing one of their favorite things -- reading.
X-ALT-DESC;FMTTYPE=text/html:The two month long 2015 winter reading program is now underway at the library and everyone is invited to participate. The theme &quot\;Hot Reads for Cold Nights&quot\; provides opportunity for patrons of all ages to win prizes just for doing one of their favorite things -- reading.
LOCATION:Frances Banta Waggoner Community Library.
UID:e.1774.297
SEQUENCE:3
DTSTAMP:20260421T141907Z
URL:https://business.dewittiowa.org/events/details/winter-reading-program-02-28-2015-297
END:VEVENT

END:VCALENDAR
