BEGIN:VCALENDAR
VERSION:2.0
PRODID:-//ChamberMaster//Event Calendar 2.0//EN
METHOD:PUBLISH
X-PUBLISHED-TTL:P3D
REFRESH-INTERVAL:P3D
CALSCALE:GREGORIAN
BEGIN:VEVENT
DTSTART:20140802T183000Z
DTEND:20140803T010000Z
X-MICROSOFT-CDO-ALLDAYEVENT:FALSE
SUMMARY:Women of Welton Golf Outing
DESCRIPTION:9-holes of 4 person best shot golf. $50 per person includes golf\, cart\, a steak dinner and fabulous hole and raffle prizes. Proceeds support the Welton Volunteer Fire Department and community projects.
X-ALT-DESC;FMTTYPE=text/html:9-holes of 4 person best shot golf. $50 per person includes golf\, cart\, a steak dinner and fabulous hole and raffle prizes. Proceeds support the Welton Volunteer Fire Department and community projects.
LOCATION:Golf at Wapsi Oaks in Calamus. Dinner at Buzzy's in Welton
UID:e.1774.98
SEQUENCE:3
DTSTAMP:20260421T234457Z
URL:https://business.dewittiowa.org/events/details/women-of-welton-golf-outing-08-02-2014-98
END:VEVENT

END:VCALENDAR
